BEGIN:VCALENDAR
VERSION:2.0
PRODID:-//CTDA - Central Tennessee Dressage Association - ECPv6.15.12.2//NONSGML v1.0//EN
CALSCALE:GREGORIAN
METHOD:PUBLISH
X-ORIGINAL-URL:https://wordpress.tndressage.com
X-WR-CALDESC:Events for CTDA - Central Tennessee Dressage Association
REFRESH-INTERVAL;VALUE=DURATION:PT1H
X-Robots-Tag:noindex
X-PUBLISHED-TTL:PT1H
BEGIN:VTIMEZONE
TZID:CST
END:VTIMEZONE
BEGIN:VTIMEZONE
TZID:UTC
BEGIN:STANDARD
TZOFFSETFROM:+0000
TZOFFSETTO:+0000
TZNAME:UTC
DTSTART:20150101T000000
END:STANDARD
END:VTIMEZONE
BEGIN:VEVENT
DTSTART;TZID=CST:20190205T183000
DTEND;TZID=CST:20190205T200000
DTSTAMP:20260423T064500
CREATED:20190305T055923Z
LAST-MODIFIED:20190305T055923Z
UID:1613-1549391400-1549396800@wordpress.tndressage.com
SUMMARY:Board Meeting
DESCRIPTION:Monthly get together
URL:https://wordpress.tndressage.com/event/board-meeting-3/
LOCATION:Jasmine Restaurant\, 8105 Moores Ln #1500\, Brentwood\, TN\, 37027\, United States
CATEGORIES:Social
END:VEVENT
BEGIN:VEVENT
DTSTART;TZID=CST:20190108T183000
DTEND;TZID=CST:20190108T200000
DTSTAMP:20260423T064500
CREATED:20190305T055923Z
LAST-MODIFIED:20190305T055923Z
UID:1612-1546972200-1546977600@wordpress.tndressage.com
SUMMARY:Board Meeting
DESCRIPTION:Monthly get together
URL:https://wordpress.tndressage.com/event/board-meeting-2/
LOCATION:Jasmine Restaurant\, 8105 Moores Ln #1500\, Brentwood\, TN\, 37027\, United States
CATEGORIES:Social
END:VEVENT
BEGIN:VEVENT
DTSTART;TZID=UTC:20160131T173000
DTEND;TZID=UTC:20160131T210000
DTSTAMP:20260423T064500
CREATED:20160106T030519Z
LAST-MODIFIED:20160125T225906Z
UID:374-1454261400-1454274000@wordpress.tndressage.com
SUMMARY:Year End Awards Party
DESCRIPTION:RESCHEDULED \nJoin CTDA on January 31\, 2016 at the TN Equine Hospital to celebrate our year end award winners! Reservations are now being accepted.  The party starts at 5:30 with our great Silent Auction and dinner catered by Sal’s Italian. Soft drinks will be available and you may bring a bottle of wine to enjoy with your dinner. Award presentations will follow. NO WALK INS. Please make your reservation by January 20. Bring the whole family! \n  \n  \n                          Name:              										  					  First																				  					  Last										E-mail:Number of people attending:			  														 			  							  			  				  Select Product:Ticket- $15QuantitySubmitReset
URL:https://wordpress.tndressage.com/event/year-end-awards-party/
LOCATION:Tennessee Equine Hospital\, 1508 Thompson's Station Road West\, Thompson's Station\, TN\, 37179\, United States
CATEGORIES:Social
END:VEVENT
END:VCALENDAR