BEGIN:VCALENDAR
VERSION:2.0
PRODID:-//CTDA - Central Tennessee Dressage Association - ECPv6.15.12.2//NONSGML v1.0//EN
CALSCALE:GREGORIAN
METHOD:PUBLISH
X-WR-CALNAME:CTDA - Central Tennessee Dressage Association
X-ORIGINAL-URL:https://wordpress.tndressage.com
X-WR-CALDESC:Events for CTDA - Central Tennessee Dressage Association
REFRESH-INTERVAL;VALUE=DURATION:PT1H
X-Robots-Tag:noindex
X-PUBLISHED-TTL:PT1H
BEGIN:VTIMEZONE
TZID:UTC
BEGIN:STANDARD
TZOFFSETFROM:+0000
TZOFFSETTO:+0000
TZNAME:UTC
DTSTART:20160101T000000
END:STANDARD
END:VTIMEZONE
BEGIN:VEVENT
DTSTART;VALUE=DATE:20171118
DTEND;VALUE=DATE:20171120
DTSTAMP:20260423T171040
CREATED:20170819T052434Z
LAST-MODIFIED:20170819T052434Z
UID:852-1510963200-1511135999@wordpress.tndressage.com
SUMMARY:Greystone Dressage Level 2 at James E Ward Agricultural Center
DESCRIPTION:Nov 18-19 – Greystone Dressage level 2 in Lebanon at the James E Ward Agricultural Center
URL:https://wordpress.tndressage.com/event/greystone-dressage-level-2-at-james-e-ward-agricultural-center-2/
LOCATION:James E Ward Agricultural Center\, Lebanon \, TN\, United States
CATEGORIES:Affiliate Horse Show
END:VEVENT
BEGIN:VEVENT
DTSTART;VALUE=DATE:20171028
DTEND;VALUE=DATE:20171029
DTSTAMP:20260423T171040
CREATED:20170819T052224Z
LAST-MODIFIED:20170819T052530Z
UID:849-1509148800-1509235199@wordpress.tndressage.com
SUMMARY:Greystone Triple D Schooling Show at Roberson Equestrian Facility
DESCRIPTION:Oct 28 – Greystone Trip D Schooling show at Roberson Equestrian Facility in Murfreesboro
URL:https://wordpress.tndressage.com/event/greystone-triple-d-schooling-show-at-roberson-equestrian-facility/
LOCATION:Roberson Equestrian Center\, 3207 Manchester Pike\, Murfreesboro \, TN\, 37127\, United States
CATEGORIES:Affiliate Horse Show
END:VEVENT
BEGIN:VEVENT
DTSTART;VALUE=DATE:20170930
DTEND;VALUE=DATE:20171002
DTSTAMP:20260423T171040
CREATED:20170819T052115Z
LAST-MODIFIED:20170819T052115Z
UID:846-1506729600-1506902399@wordpress.tndressage.com
SUMMARY:Greystone Dressage Level 2 at James E Ward Agricultural Center
DESCRIPTION:Sept 30 – Oct 1 – Greystone Dressage level 2 in Lebanon at the James E Ward Agricultural Center
URL:https://wordpress.tndressage.com/event/greystone-dressage-level-2-at-james-e-ward-agricultural-center/
LOCATION:James E Ward Agricultural Center\, Lebanon \, TN\, United States
CATEGORIES:Affiliate Horse Show
END:VEVENT
END:VCALENDAR