BEGIN:VCALENDAR
VERSION:2.0
PRODID:-//CTDA - Central Tennessee Dressage Association - ECPv6.15.12.2//NONSGML v1.0//EN
CALSCALE:GREGORIAN
METHOD:PUBLISH
X-WR-CALNAME:CTDA - Central Tennessee Dressage Association
X-ORIGINAL-URL:https://wordpress.tndressage.com
X-WR-CALDESC:Events for CTDA - Central Tennessee Dressage Association
REFRESH-INTERVAL;VALUE=DURATION:PT1H
X-Robots-Tag:noindex
X-PUBLISHED-TTL:PT1H
BEGIN:VTIMEZONE
TZID:CST
END:VTIMEZONE
BEGIN:VEVENT
DTSTART;TZID=CST:20260502T080000
DTEND;TZID=CST:20260502T170000
DTSTAMP:20260422T051039
CREATED:20251210T182333Z
LAST-MODIFIED:20251210T182335Z
UID:4457-1777708800-1777741200@wordpress.tndressage.com
SUMMARY:CTDA Schooling Show\, Harlinsdale Farm\, Franklin TN
DESCRIPTION:Classical\, Eventing\, Western and Gaited Dressage using USDF\, USEF and WDAA approved tests.
URL:https://wordpress.tndressage.com/event/ctda-schooling-show-harlinsdale-farm-franklin-tn-6/
LOCATION:Park at Harlinsdale
CATEGORIES:CTDA Schooling Show
END:VEVENT
BEGIN:VEVENT
DTSTART;TZID=CST:20260503T080000
DTEND;TZID=CST:20260503T170000
DTSTAMP:20260422T051039
CREATED:20251210T182333Z
LAST-MODIFIED:20251210T182335Z
UID:4458-1777795200-1777827600@wordpress.tndressage.com
SUMMARY:CTDA Schooling Show\, Harlinsdale Farm\, Franklin TN
DESCRIPTION:Classical\, Eventing\, Western and Gaited Dressage using USDF\, USEF and WDAA approved tests.
URL:https://wordpress.tndressage.com/event/ctda-schooling-show-harlinsdale-farm-franklin-tn-7/
LOCATION:Park at Harlinsdale
CATEGORIES:CTDA Schooling Show
END:VEVENT
BEGIN:VEVENT
DTSTART;TZID=CST:20260530T080000
DTEND;TZID=CST:20260530T170000
DTSTAMP:20260422T051039
CREATED:20251210T182333Z
LAST-MODIFIED:20251210T182335Z
UID:4459-1780128000-1780160400@wordpress.tndressage.com
SUMMARY:CTDA Schooling Show\, Double H Farm\, Chapel Hill\, TN
DESCRIPTION:Classical\, Eventing\, Western and Gaited Dressage using USDF\, USEF and WDAA approved tests.
URL:https://wordpress.tndressage.com/event/ctda-schooling-show-double-h-farm-chapel-hill-tn-4/
LOCATION:Double H Farm\, 4865 Thick Road\, Chapel Hill\, TN\, 37034\, United States
CATEGORIES:CTDA Schooling Show
END:VEVENT
BEGIN:VEVENT
DTSTART;TZID=CST:20260613T080000
DTEND;TZID=CST:20260613T170000
DTSTAMP:20260422T051039
CREATED:20251210T182330Z
LAST-MODIFIED:20251210T182330Z
UID:4453-1781337600-1781370000@wordpress.tndressage.com
SUMMARY:Tennessean Express
DESCRIPTION:USEF Recognized Dressage Show
URL:https://wordpress.tndressage.com/event/tennessean-express-5/
LOCATION:Miller Colosseum\, 304 W Thompson Ln\, Murfreesboro\, TN\, 37129\, United States
CATEGORIES:CTDA Recognized Show
END:VEVENT
BEGIN:VEVENT
DTSTART;TZID=CST:20260614T080000
DTEND;TZID=CST:20260614T170000
DTSTAMP:20260422T051039
CREATED:20251210T182330Z
LAST-MODIFIED:20251210T182330Z
UID:4454-1781424000-1781456400@wordpress.tndressage.com
SUMMARY:Tennessean
DESCRIPTION:USEF Recognized Dressage Show
URL:https://wordpress.tndressage.com/event/tennessean-4/
LOCATION:Miller Colosseum\, 304 W Thompson Ln\, Murfreesboro\, TN\, 37129\, United States
CATEGORIES:CTDA Recognized Show
END:VEVENT
BEGIN:VEVENT
DTSTART;TZID=CST:20260822T080000
DTEND;TZID=CST:20260822T170000
DTSTAMP:20260422T051039
CREATED:20251210T182330Z
LAST-MODIFIED:20251210T182330Z
UID:4451-1787385600-1787418000@wordpress.tndressage.com
SUMMARY:Ole South Prelude
DESCRIPTION:USEF Recognized Dressage Show
URL:https://wordpress.tndressage.com/event/ole-south-prelude-6/
LOCATION:Miller Colosseum\, 304 W Thompson Ln\, Murfreesboro\, TN\, 37129\, United States
CATEGORIES:CTDA Recognized Show
END:VEVENT
BEGIN:VEVENT
DTSTART;TZID=CST:20260823T080000
DTEND;TZID=CST:20260823T170000
DTSTAMP:20260422T051039
CREATED:20251210T182330Z
LAST-MODIFIED:20251210T182330Z
UID:4452-1787472000-1787504400@wordpress.tndressage.com
SUMMARY:Ole South
DESCRIPTION:USEF Recognized Dressage Show
URL:https://wordpress.tndressage.com/event/ole-south-5/
LOCATION:Miller Colosseum\, 304 W Thompson Ln\, Murfreesboro\, TN\, 37129\, United States
CATEGORIES:CTDA Recognized Show
END:VEVENT
BEGIN:VEVENT
DTSTART;TZID=CST:20260919T080000
DTEND;TZID=CST:20260919T170000
DTSTAMP:20260422T051039
CREATED:20251210T182334Z
LAST-MODIFIED:20251210T182335Z
UID:4460-1789804800-1789837200@wordpress.tndressage.com
SUMMARY:CTDA Schooling Show\, Walnut Trace Farm\, Franklin\, TN
DESCRIPTION:Classical\, Eventing\, Western and Gaited Dressage using USDF\, USEF and WDAA approved tests.
URL:https://wordpress.tndressage.com/event/ctda-schooling-show-walnut-trace-farm-franklin-tn-15/
LOCATION:Walnut Trace Farm\, 8388 Collins Road\, Nashville\, TN\, 37211\, United States
CATEGORIES:CTDA Schooling Show
END:VEVENT
END:VCALENDAR